BEGIN:VCALENDAR
VERSION:2.0
PRODID:-//Plone.org//NONSGML plone.app.event//EN
X-WR-TIMEZONE:Europe/Madrid
BEGIN:VEVENT
SUMMARY:Mercat del Trasto
DTSTART;TZID=Europe/Madrid;VALUE=DATE-TIME:20140803T090000
DTEND;TZID=Europe/Madrid;VALUE=DATE-TIME:20140803T100000
DTSTAMP;VALUE=DATE-TIME:20260422T195301Z
UID:54961971a23b0cf3b8b5819c57084b8a
CREATED;VALUE=DATE-TIME:20140803T000000Z
CATEGORIES:Mostra
LOCATION:Plaça Merce Rodoreda i plaça de la Creu
ORGANIZER:Tots a la Pista TALP
COMMENT:Preu: 3 &euro;
URL:https://www.santceloni.cat/document.php?id=12811
END:VEVENT
END:VCALENDAR