BEGIN:VCALENDAR
VERSION:2.0
PRODID:-//Plone.org//NONSGML plone.app.event//EN
X-WR-TIMEZONE:Europe/Madrid
BEGIN:VEVENT
SUMMARY:Xerrada: Història de l'independentisme català, amb Agustí Barrera
DTSTART;TZID=Europe/Madrid;VALUE=DATE-TIME:20140719T190000
DTEND;TZID=Europe/Madrid;VALUE=DATE-TIME:20140719T200000
DTSTAMP;VALUE=DATE-TIME:20260424T025931Z
UID:29680fdde343618f9fb40c588c72ae93
CREATED;VALUE=DATE-TIME:20140719T000000Z
LOCATION:La Clau - c. Alguersuari, 16
ORGANIZER:CUP Sant Celoni
DESCRIPTION:Activitats de La Clau
URL:https://www.santceloni.cat/document.php?id=12895
END:VEVENT
END:VCALENDAR