BEGIN:VCALENDAR
VERSION:2.0
PRODID:-//Plone.org//NONSGML plone.app.event//EN
X-WR-TIMEZONE:Europe/Madrid
BEGIN:VEVENT
SUMMARY:Cinema: Pequeñas mentiras sin importancia, de G. Canet
DTSTART;TZID=Europe/Madrid;VALUE=DATE-TIME:20141207T180000
DTEND;TZID=Europe/Madrid;VALUE=DATE-TIME:20141207T190000
DTSTAMP;VALUE=DATE-TIME:20260422T230647Z
UID:249f53cec78c3b602fc61143cd7f8ad5
CREATED;VALUE=DATE-TIME:20141207T000000Z
CATEGORIES:Cinema
LOCATION:Teatre Municipal Ateneu, Sala Petita - Germà Emilià, 1
DESCRIPTION:Cinema a l'Ateneu
URL:https://www.santceloni.cat/document.php?id=13042
END:VEVENT
END:VCALENDAR