BEGIN:VCALENDAR
VERSION:2.0
PRODID:-//Plone.org//NONSGML plone.app.event//EN
X-WR-TIMEZONE:Europe/Madrid
BEGIN:VEVENT
SUMMARY:Ball de l'Esplai a l'Ateneu
DTSTART;TZID=Europe/Madrid;VALUE=DATE-TIME:20141207T180000
DTEND;TZID=Europe/Madrid;VALUE=DATE-TIME:20141207T190000
DTSTAMP;VALUE=DATE-TIME:20260423T003841Z
UID:b9ae8e660f2edad2a011e9dfc17b0ce6
CREATED;VALUE=DATE-TIME:20141207T000000Z
CATEGORIES:Dansa,Música
LOCATION:Teatre Municipal Ateneu, Sala Gran - Germà Emilià, 1
ORGANIZER:L'Esplai de la Gent Gran
COMMENT:Preu: 4 &euro; socis, 5 &euro; no socis
DESCRIPTION:Amb Aria
URL:https://www.santceloni.cat/document.php?id=13054
END:VEVENT
END:VCALENDAR