BEGIN:VCALENDAR
VERSION:2.0
PRODID:-//Plone.org//NONSGML plone.app.event//EN
X-WR-TIMEZONE:Europe/Madrid
BEGIN:VEVENT
SUMMARY:Tast amb el celler Cava Berdié
DTSTART;TZID=Europe/Madrid;VALUE=DATE-TIME:20141024T200000
DTEND;TZID=Europe/Madrid;VALUE=DATE-TIME:20141024T210000
DTSTAMP;VALUE=DATE-TIME:20260422T030358Z
UID:bd26e88a0659f4ebe5329af1cf8c6bdf
CREATED;VALUE=DATE-TIME:20141024T000000Z
CATEGORIES:Mostra
LOCATION:Delícies Gourmet - c. Major, 72
COMMENT:Preu: 5 &euro;
DESCRIPTION:Tardor gastronòmica 2014
URL:https://www.santceloni.cat/document.php?id=13093
END:VEVENT
END:VCALENDAR