BEGIN:VCALENDAR
VERSION:2.0
PRODID:-//Plone.org//NONSGML plone.app.event//EN
X-WR-TIMEZONE:Europe/Madrid
BEGIN:VEVENT
SUMMARY:Gorg Negre de Rentadors
DTSTART;TZID=Europe/Madrid;VALUE=DATE-TIME:20141130T080000
DTEND;TZID=Europe/Madrid;VALUE=DATE-TIME:20141130T090000
DTSTAMP;VALUE=DATE-TIME:20260423T003856Z
UID:2e8525e9fc7a58062745c20779a37a35
CREATED;VALUE=DATE-TIME:20141130T000000Z
CATEGORIES:Esports
LOCATION:Plaça Comte del Montseny - Plaça Comte del Montseny
DESCRIPTION:Activitats del CESC
URL:https://www.santceloni.cat/document.php?id=13200
END:VEVENT
END:VCALENDAR