BEGIN:VCALENDAR
VERSION:2.0
PRODID:-//Plone.org//NONSGML plone.app.event//EN
X-WR-TIMEZONE:Europe/Madrid
BEGIN:VEVENT
SUMMARY:Marxa per La Marató per la vall d'Olzinelles
DTSTART;TZID=Europe/Madrid;VALUE=DATE-TIME:20141208T090000
DTEND;TZID=Europe/Madrid;VALUE=DATE-TIME:20141208T100000
DTSTAMP;VALUE=DATE-TIME:20260425T141648Z
UID:a16d770461cc1d9f9c29638e7fb2f93e
CREATED;VALUE=DATE-TIME:20141208T000000Z
CATEGORIES:Esports
LOCATION:Camp Municipal d'esports - Pg. dels Esports, s/n
ORGANIZER:Els 08470
COMMENT:Preu: 8 &euro;
DESCRIPTION:Actes per La Marató de TV3
URL:https://www.santceloni.cat/document.php?id=13363
END:VEVENT
END:VCALENDAR