BEGIN:VCALENDAR
VERSION:2.0
PRODID:-//Plone.org//NONSGML plone.app.event//EN
X-WR-TIMEZONE:Europe/Madrid
BEGIN:VEVENT
SUMMARY:Actes per La Marató de TV3. DISSABTE
DTSTART;TZID=Europe/Madrid;VALUE=DATE-TIME:20141213T090000
DTEND;TZID=Europe/Madrid;VALUE=DATE-TIME:20141213T100000
DTSTAMP;VALUE=DATE-TIME:20260423T042455Z
UID:0fab17c54df2e2458638f92e1378fa35
CREATED;VALUE=DATE-TIME:20141213T000000Z
CATEGORIES:Esports,Festa,Infantils,Música
LOCATION:Camp Municipal d'esports, pàrquing del Pavelló, Teatre M. Ateneu
ORGANIZER:Club Esportiu Sant Celoni, Els 08470, Club Arc Sant Celoni, Jungle Park, Ass. Gent Gran l'Esplai, comerciants de la vila
DESCRIPTION:Activitats de dissabte
URL:https://www.santceloni.cat/document.php?id=13364
END:VEVENT
END:VCALENDAR