BEGIN:VCALENDAR
VERSION:2.0
PRODID:-//Plone.org//NONSGML plone.app.event//EN
X-WR-TIMEZONE:Europe/Madrid
BEGIN:VEVENT
SUMMARY:Concert de Cap d'Any
DTSTART;TZID=Europe/Madrid;VALUE=DATE-TIME:20150104T190000
DTEND;TZID=Europe/Madrid;VALUE=DATE-TIME:20150104T200000
DTSTAMP;VALUE=DATE-TIME:20260423T150137Z
UID:3f42f0879936e7823a2e86c2e4cd3cb7
CREATED;VALUE=DATE-TIME:20150104T000000Z
CATEGORIES:Música
LOCATION:Teatre Municipal Ateneu, Sala Gran - Germà Emilià, 1
ORGANIZER:L'Ateneu de Sant Celoni
COMMENT:Preu: Platea, llotges i 1r pis, 15 &euro;; 2n pis, 10 &euro;; Socis, 5 &euro;
DESCRIPTION:Festival de valsos i danses, amb l'Orquestra Simfònica del Vallès
URL:https://www.santceloni.cat/document.php?id=13433
END:VEVENT
END:VCALENDAR