BEGIN:VCALENDAR
VERSION:2.0
PRODID:-//Plone.org//NONSGML plone.app.event//EN
X-WR-TIMEZONE:Europe/Madrid
BEGIN:VEVENT
SUMMARY:Xerrada: Educar amb humor, amb Carles Capdevila
DTSTART;TZID=Europe/Madrid;VALUE=DATE-TIME:20150219T210000
DTEND;TZID=Europe/Madrid;VALUE=DATE-TIME:20150219T220000
DTSTAMP;VALUE=DATE-TIME:20260419T193253Z
UID:7835cdcb6cdcfceb932c89bce29de2f4
CREATED;VALUE=DATE-TIME:20150219T000000Z
CATEGORIES:Conferència
LOCATION:Col·legi Cor de Maria
ORGANIZER:AMPA Cor de Maria
COMMENT:Preu: entrada lliure
DESCRIPTION:Cicle de xerrades per a pares i mares
URL:https://www.santceloni.cat/document.php?id=13473
END:VEVENT
END:VCALENDAR