BEGIN:VCALENDAR
VERSION:2.0
PRODID:-//Plone.org//NONSGML plone.app.event//EN
X-WR-TIMEZONE:Europe/Madrid
BEGIN:VEVENT
SUMMARY:Música: Zing, en concert
DTSTART;TZID=Europe/Madrid;VALUE=DATE-TIME:20150509T200000
DTEND;TZID=Europe/Madrid;VALUE=DATE-TIME:20150509T210000
DTSTAMP;VALUE=DATE-TIME:20260423T104533Z
UID:eccb4a20830421aeaf445c6b4049f0b4
CREATED;VALUE=DATE-TIME:20150509T000000Z
CATEGORIES:Música
LOCATION:Teatre Municipal Ateneu, Sala Petita - Germà Emilià, 1
COMMENT:Preu: 10 &euro; (general). Vegeu descomptes
DESCRIPTION:Programació A l'Ateneu, febrer-maig 2015
URL:https://www.santceloni.cat/document.php?id=13493
END:VEVENT
END:VCALENDAR