BEGIN:VCALENDAR
VERSION:2.0
PRODID:-//Plone.org//NONSGML plone.app.event//EN
X-WR-TIMEZONE:Europe/Madrid
BEGIN:VEVENT
SUMMARY:Dansa: Contes amb swing, amb la Cia. Sonor
DTSTART;TZID=Europe/Madrid;VALUE=DATE-TIME:20150328T210000
DTEND;TZID=Europe/Madrid;VALUE=DATE-TIME:20150328T220000
DTSTAMP;VALUE=DATE-TIME:20260422T225649Z
UID:30a8de8df01251c3d002bb94fb3fdf7e
CREATED;VALUE=DATE-TIME:20150328T000000Z
CATEGORIES:Dansa
LOCATION:Teatre Municipal Ateneu, Sala Gran - Germà Emilià, 1
COMMENT:Preu: 8 
Durada: 65 minuts
DESCRIPTION:Programació A l'Ateneu, febrer-maig 2015
URL:https://www.santceloni.cat/document.php?id=13507
END:VEVENT
END:VCALENDAR