BEGIN:VCALENDAR
VERSION:2.0
PRODID:-//Plone.org//NONSGML plone.app.event//EN
X-WR-TIMEZONE:Europe/Madrid
BEGIN:VEVENT
SUMMARY:Mercat del Trasto
DTSTART;TZID=Europe/Madrid;VALUE=DATE-TIME:20150104T090000
DTEND;TZID=Europe/Madrid;VALUE=DATE-TIME:20150104T100000
DTSTAMP;VALUE=DATE-TIME:20260423T121618Z
UID:ae95120acdfd98bf8d4036c4f01be21e
CREATED;VALUE=DATE-TIME:20150104T000000Z
CATEGORIES:Mostra
LOCATION:Plaça Mercè Rodoreda i Plaça de la Creu - Plaça Mercè Rodoreda
ORGANIZER:Tots a la Pista TALP
COMMENT:Preu: 3 &euro;
URL:https://www.santceloni.cat/document.php?id=13556
END:VEVENT
END:VCALENDAR