BEGIN:VCALENDAR
VERSION:2.0
PRODID:-//Plone.org//NONSGML plone.app.event//EN
X-WR-TIMEZONE:Europe/Madrid
BEGIN:VEVENT
SUMMARY:Fotografia: Estels, ermites i esglesioles del Montseny, de M. Pagés
DTSTART;TZID=Europe/Madrid;VALUE=DATE-TIME:20150308T180000
DTEND;TZID=Europe/Madrid;VALUE=DATE-TIME:20150308T190000
DTSTAMP;VALUE=DATE-TIME:20260421T235940Z
UID:0dcbacd6e0b636f76a23dbac76b8c6b1
CREATED;VALUE=DATE-TIME:20150308T000000Z
CATEGORIES:Exposició
LOCATION:Rectoria Vella - Parc de la Rectoria Vella, s/n
DESCRIPTION:Visita comentada
URL:https://www.santceloni.cat/document.php?id=13585
END:VEVENT
END:VCALENDAR