BEGIN:VCALENDAR
VERSION:2.0
PRODID:-//Plone.org//NONSGML plone.app.event//EN
X-WR-TIMEZONE:Europe/Madrid
BEGIN:VEVENT
SUMMARY:Rua de Carnestoltes a la Batllòria
DTSTART;TZID=Europe/Madrid;VALUE=DATE-TIME:20150214T180000
DTEND;TZID=Europe/Madrid;VALUE=DATE-TIME:20150214T190000
DTSTAMP;VALUE=DATE-TIME:20260422T045559Z
UID:861121e50ce26138584e5d12c855b623
CREATED;VALUE=DATE-TIME:20150214T000000Z
CATEGORIES:Festa
LOCATION:Carrers del poble, Plaça de l'Església (la Batllòria) - Plaça de l'Església (la Batllòria)
DESCRIPTION:Carnaval i Gitanes 2015
URL:https://www.santceloni.cat/document.php?id=13667
END:VEVENT
END:VCALENDAR