BEGIN:VCALENDAR
VERSION:2.0
PRODID:-//Plone.org//NONSGML plone.app.event//EN
X-WR-TIMEZONE:Europe/Madrid
BEGIN:VEVENT
SUMMARY:Sopar i Ball de Carnaval a la Batllòria
DTSTART;TZID=Europe/Madrid;VALUE=DATE-TIME:20150214T210000
DTEND;TZID=Europe/Madrid;VALUE=DATE-TIME:20150214T220000
DTSTAMP;VALUE=DATE-TIME:20260422T023516Z
UID:7ae645c88be26ab27bfc86e7cba87fc9
CREATED;VALUE=DATE-TIME:20150214T000000Z
CATEGORIES:Festa
LOCATION:Menjador de l'Escola Montnegre (la Batllòria) - Escoles, 2, 08476 La Batllòria
ORGANIZER:AMPA Escola Montnegre
DESCRIPTION:Carnaval i Gitanes 2015
URL:https://www.santceloni.cat/document.php?id=13668
END:VEVENT
END:VCALENDAR