BEGIN:VCALENDAR
VERSION:2.0
PRODID:-//Plone.org//NONSGML plone.app.event//EN
X-WR-TIMEZONE:Europe/Madrid
BEGIN:VEVENT
SUMMARY:Grup de Labors
DTSTART;TZID=Europe/Madrid;VALUE=DATE-TIME:20150212T180000
DTEND;TZID=Europe/Madrid;VALUE=DATE-TIME:20150212T190000
DTSTAMP;VALUE=DATE-TIME:20260423T165923Z
UID:7eee0891e2b83e92056dbbcdd24c6af5
CREATED;VALUE=DATE-TIME:20150212T000000Z
CATEGORIES:Cursos
LOCATION:Thea Sinensis - carrer Balmes, 30 08470 Sant Celoni
ORGANIZER:Banc de Temps de Sant Celoni
DESCRIPTION:Activitats de La Clau
URL:https://www.santceloni.cat/document.php?id=13706
END:VEVENT
END:VCALENDAR