BEGIN:VCALENDAR
VERSION:2.0
PRODID:-//Plone.org//NONSGML plone.app.event//EN
X-WR-TIMEZONE:Europe/Madrid
BEGIN:VEVENT
SUMMARY:Midfulness
DTSTART;TZID=Europe/Madrid;VALUE=DATE-TIME:20150214T110000
DTEND;TZID=Europe/Madrid;VALUE=DATE-TIME:20150214T120000
DTSTAMP;VALUE=DATE-TIME:20260421T152455Z
UID:3528d5652c6a5c917d10a8505cc49fb3
CREATED;VALUE=DATE-TIME:20150214T000000Z
CATEGORIES:Cursos
LOCATION:Escola bressol municipal - Pere Ferrer, 15
ORGANIZER:Banc de Temps de Sant Celoni
COMMENT:Durada: 1 hora
DESCRIPTION:Activitats de La Clau
URL:https://www.santceloni.cat/document.php?id=13733
END:VEVENT
END:VCALENDAR