BEGIN:VCALENDAR
VERSION:2.0
PRODID:-//Plone.org//NONSGML plone.app.event//EN
X-WR-TIMEZONE:Europe/Madrid
BEGIN:VEVENT
SUMMARY:Dia internacional de les dones: Passejada-marxa amb preguntes i respostes
DTSTART;TZID=Europe/Madrid;VALUE=DATE-TIME:20150308T110000
DTEND;TZID=Europe/Madrid;VALUE=DATE-TIME:20150308T120000
DTSTAMP;VALUE=DATE-TIME:20260422T170000Z
UID:75ac5416ba9182ea7d38a1695a1ae790
CREATED;VALUE=DATE-TIME:20150308T000000Z
CATEGORIES:Festa,Conferència
LOCATION:Rectoria Vella - Parc de la Rectoria Vella, s/n
ORGANIZER:Plataforma d'Iniciatives per l'Equitat entre Gèneres (PIEG).
DESCRIPTION:Dia internacional de les dones
URL:https://www.santceloni.cat/document.php?id=13742
END:VEVENT
END:VCALENDAR