BEGIN:VCALENDAR
VERSION:2.0
PRODID:-//Plone.org//NONSGML plone.app.event//EN
X-WR-TIMEZONE:Europe/Madrid
BEGIN:VEVENT
SUMMARY:Conversa amb Jordina Pastó, sopar i ball
DTSTART;TZID=Europe/Madrid;VALUE=DATE-TIME:20150306T200000
DTEND;TZID=Europe/Madrid;VALUE=DATE-TIME:20150306T210000
DTSTAMP;VALUE=DATE-TIME:20260421T195006Z
UID:61ef463dffec3419bc70bf87648b7ffb
CREATED;VALUE=DATE-TIME:20150306T000000Z
CATEGORIES:Festa,Música,Conferència
LOCATION:Escola Montnegre (la Batllòria) - Escoles, 2, 08476 La Batllòria
ORGANIZER:Plataforma d'Iniciatives per l'Equitat entre Gèneres - PIEG
COMMENT:Durada: Fins la nit
DESCRIPTION:Dia internacional de les dones
URL:https://www.santceloni.cat/document.php?id=13766
END:VEVENT
END:VCALENDAR