BEGIN:VCALENDAR
VERSION:2.0
PRODID:-//Plone.org//NONSGML plone.app.event//EN
X-WR-TIMEZONE:Europe/Madrid
BEGIN:VEVENT
SUMMARY:Recitals, ronda final i cloenda
DTSTART;TZID=Europe/Madrid;VALUE=DATE-TIME:20150502T180000
DTEND;TZID=Europe/Madrid;VALUE=DATE-TIME:20150502T190000
DTSTAMP;VALUE=DATE-TIME:20260421T160407Z
UID:a4c8749ba0e7c698c6dcdba8db6582d2
CREATED;VALUE=DATE-TIME:20150502T000000Z
CATEGORIES:Literatura
LOCATION:Can Ramis - Pl. de la Vila, 25
DESCRIPTION:IV Festival de Poesia de Sant Celoni
URL:https://www.santceloni.cat/document.php?id=13859
END:VEVENT
END:VCALENDAR