BEGIN:VCALENDAR
VERSION:2.0
PRODID:-//Plone.org//NONSGML plone.app.event//EN
X-WR-TIMEZONE:Europe/Madrid
BEGIN:VEVENT
SUMMARY:Audiovisual: Califòrnia de -282 a +14505 feet, amb César Cabrera i Patrícia Bassa
DTSTART;TZID=Europe/Madrid;VALUE=DATE-TIME:20150327T213000
DTEND;TZID=Europe/Madrid;VALUE=DATE-TIME:20150327T223000
DTSTAMP;VALUE=DATE-TIME:20260423T102459Z
UID:240d36754c32c139a2a702926f54e53a
CREATED;VALUE=DATE-TIME:20150327T000000Z
CATEGORIES:Conferència
LOCATION:Sala Bernat Martorell de Can Ramis - Pl. de la Vila, 25
ORGANIZER:Centre Excursionista de Sant Celoni (CESC)
DESCRIPTION:CESC - Cicle audiovisuals de muntanya i excursionisme
URL:https://www.santceloni.cat/document.php?id=13864
END:VEVENT
END:VCALENDAR