BEGIN:VCALENDAR
VERSION:2.0
PRODID:-//Plone.org//NONSGML plone.app.event//EN
X-WR-TIMEZONE:Europe/Madrid
BEGIN:VEVENT
SUMMARY:Sortida de Senders: GR2, Etapa 8 (Vilanova de Sau-Collada del Vilar)
DTSTART;TZID=Europe/Madrid;VALUE=DATE-TIME:20150308T073000
DTEND;TZID=Europe/Madrid;VALUE=DATE-TIME:20150308T083000
DTSTAMP;VALUE=DATE-TIME:20260421T221926Z
UID:11dd34bda75eaaf9d68189a07c3a144b
CREATED;VALUE=DATE-TIME:20150308T000000Z
CATEGORIES:Esports
LOCATION:Plaça Comte del Montseny - Plaça Comte del Montseny
COMMENT:Preu: Socis CESC, 13 &euro;. No socis, 20 &euro;. Menors 14 anys, 7 &euro;
DESCRIPTION:Activitats del CESC
URL:https://www.santceloni.cat/document.php?id=13865
END:VEVENT
END:VCALENDAR