BEGIN:VCALENDAR
VERSION:2.0
PRODID:-//Plone.org//NONSGML plone.app.event//EN
X-WR-TIMEZONE:Europe/Madrid
BEGIN:VEVENT
SUMMARY:Barranquisme: Canal Roja o Tres en ratlla
DTSTART;TZID=Europe/Madrid;VALUE=DATE-TIME:20150308T073000
DTEND;TZID=Europe/Madrid;VALUE=DATE-TIME:20150308T083000
DTSTAMP;VALUE=DATE-TIME:20260422T084842Z
UID:a27c7b8ee0c9aa956bfb3b1ed76a8a7b
CREATED;VALUE=DATE-TIME:20150308T000000Z
CATEGORIES:Esports
LOCATION:A l'aparcament nou de l'estació de tren de Sant Celoni (cruïlla entre carrers Olzinelles i Comerç)
DESCRIPTION:Activitats del CESC
URL:https://www.santceloni.cat/document.php?id=13867
END:VEVENT
END:VCALENDAR