BEGIN:VCALENDAR
VERSION:2.0
PRODID:-//Plone.org//NONSGML plone.app.event//EN
X-WR-TIMEZONE:Europe/Madrid
BEGIN:VEVENT
SUMMARY:L'artista i l'obra, xerrada d'Antonio Niebla
DTSTART;TZID=Europe/Madrid;VALUE=DATE-TIME:20150425T180000
DTEND;TZID=Europe/Madrid;VALUE=DATE-TIME:20150425T190000
DTSTAMP;VALUE=DATE-TIME:20260423T171710Z
UID:12c2a1f37a872a213d55f8242040be3c
CREATED;VALUE=DATE-TIME:20150425T000000Z
CATEGORIES:Exposició,Conferència
LOCATION:Rectoria Vella - Parc de la Rectoria Vella, s/n
DESCRIPTION:Visita comentada a l'exposició El límit i l'infinit
URL:https://www.santceloni.cat/document.php?id=13896
END:VEVENT
END:VCALENDAR