BEGIN:VCALENDAR
VERSION:2.0
PRODID:-//Plone.org//NONSGML plone.app.event//EN
X-WR-TIMEZONE:Europe/Madrid
BEGIN:VEVENT
SUMMARY:Secretaria del Banc de Temps
DTSTART;TZID=Europe/Madrid;VALUE=DATE-TIME:20150303T235900
DTEND;TZID=Europe/Madrid;VALUE=DATE-TIME:20150304T005900
DTSTAMP;VALUE=DATE-TIME:20260422T170046Z
UID:6f3213f83b064d249f1991eebca33e99
CREATED;VALUE=DATE-TIME:20150303T000000Z
LOCATION:La Clau - c. Alguersuari, 16
ORGANIZER:Banc de Temps de Sant Celoni
COMMENT:Durada: anual tots els dimarts de 18 a 20
DESCRIPTION:Inscripcions i informació
URL:https://www.santceloni.cat/document.php?id=13901
END:VEVENT
END:VCALENDAR