BEGIN:VCALENDAR
VERSION:2.0
PRODID:-//Plone.org//NONSGML plone.app.event//EN
X-WR-TIMEZONE:Europe/Madrid
BEGIN:VEVENT
SUMMARY:Trobada de socis i interessats en el Banc de Temps
DTSTART;TZID=Europe/Madrid;VALUE=DATE-TIME:20150306T190000
DTEND;TZID=Europe/Madrid;VALUE=DATE-TIME:20150306T200000
DTSTAMP;VALUE=DATE-TIME:20260422T044347Z
UID:1557b4cbb719bd08536148cf0c1ece44
CREATED;VALUE=DATE-TIME:20150306T000000Z
LOCATION:La Clau - c. Alguersuari, 16
ORGANIZER:Banc de Temps de Sant Celoni
COMMENT:Durada: Cada Primer divendres de mes
DESCRIPTION:Banc del Temps de Sant Celoni
URL:https://www.santceloni.cat/document.php?id=13902
END:VEVENT
END:VCALENDAR