BEGIN:VCALENDAR
VERSION:2.0
PRODID:-//Plone.org//NONSGML plone.app.event//EN
X-WR-TIMEZONE:Europe/Madrid
BEGIN:VEVENT
SUMMARY:Mineralexpo
DTSTART;TZID=Europe/Madrid;VALUE=DATE-TIME:20150503T000000
DTEND;TZID=Europe/Madrid;VALUE=DATE-TIME:20150503T010000
DTSTAMP;VALUE=DATE-TIME:20260424T191228Z
UID:ddc90c9577fe0ccb36a6e408271125ce
CREATED;VALUE=DATE-TIME:20150503T000000Z
CATEGORIES:Mostra
LOCATION:Teatre Municipal Ateneu, Sala Gran - Germà Emilià, 1
COMMENT:Durada: De les 10 a les 19 h
DESCRIPTION:Fira de minerals. Tallers, presentació de llibres, travessa mineralògica, premis...
URL:https://www.santceloni.cat/document.php?id=13932
END:VEVENT
END:VCALENDAR