BEGIN:VCALENDAR
VERSION:2.0
PRODID:-//Plone.org//NONSGML plone.app.event//EN
X-WR-TIMEZONE:Europe/Madrid
BEGIN:VEVENT
SUMMARY:Taller de Dansa del Ventre
DTSTART;TZID=Europe/Madrid;VALUE=DATE-TIME:20150509T110000
DTEND;TZID=Europe/Madrid;VALUE=DATE-TIME:20150509T120000
DTSTAMP;VALUE=DATE-TIME:20260423T085404Z
UID:6512a782f18558ee170970294e798a9b
CREATED;VALUE=DATE-TIME:20150509T000000Z
CATEGORIES:Cursos
LOCATION:Pavelló Municipal d'Esports - Av. Catalunya, s/n
ORGANIZER:Banc del Temps de Sant Celoni
COMMENT:Preu: 0 &euro; no usuaris / 20 min usuaris Banc del Temps
DESCRIPTION:Activitats del Banc del Temps
URL:https://www.santceloni.cat/document.php?id=14086
END:VEVENT
END:VCALENDAR