BEGIN:VCALENDAR
VERSION:2.0
PRODID:-//Plone.org//NONSGML plone.app.event//EN
X-WR-TIMEZONE:Europe/Madrid
BEGIN:VEVENT
SUMMARY:L'Índia sagrada, a càrrec de Jordi Solà
DTSTART;TZID=Europe/Madrid;VALUE=DATE-TIME:20150508T190000
DTEND;TZID=Europe/Madrid;VALUE=DATE-TIME:20150508T200000
DTSTAMP;VALUE=DATE-TIME:20260423T044841Z
UID:62bcb9e20b3ef08a62376a0d7004f529
CREATED;VALUE=DATE-TIME:20150508T000000Z
CATEGORIES:Conferència
LOCATION:Biblioteca l'Escorxador - Pg. de la Rectoria Vella, 10
DESCRIPTION:Dins el cicle RodaMonts
URL:https://www.santceloni.cat/document.php?id=14212
END:VEVENT
END:VCALENDAR