BEGIN:VCALENDAR
VERSION:2.0
PRODID:-//Plone.org//NONSGML plone.app.event//EN
X-WR-TIMEZONE:Europe/Madrid
BEGIN:VEVENT
SUMMARY:La maleta dels sentits, amb Gisela Llimona
DTSTART;TZID=Europe/Madrid;VALUE=DATE-TIME:20150605T173000
DTEND;TZID=Europe/Madrid;VALUE=DATE-TIME:20150605T183000
DTSTAMP;VALUE=DATE-TIME:20260423T035017Z
UID:7a4a8d057610fc7b2785106ae0bf5825
CREATED;VALUE=DATE-TIME:20150605T000000Z
CATEGORIES:Infantils
LOCATION:Biblioteca l'Escorxador - Pg. de la Rectoria Vella, 10
DESCRIPTION:Contes per a menuts
URL:https://www.santceloni.cat/document.php?id=14333
END:VEVENT
END:VCALENDAR