BEGIN:VCALENDAR
VERSION:2.0
PRODID:-//Plone.org//NONSGML plone.app.event//EN
X-WR-TIMEZONE:Europe/Madrid
BEGIN:VEVENT
SUMMARY:L'aranya i l'elefant, amb Mercè Rubí
DTSTART;TZID=Europe/Madrid;VALUE=DATE-TIME:20150717T173000
DTEND;TZID=Europe/Madrid;VALUE=DATE-TIME:20150717T183000
DTSTAMP;VALUE=DATE-TIME:20260423T112953Z
UID:f1090aab5ca0e19f3300ddf1d756f1ba
CREATED;VALUE=DATE-TIME:20150717T000000Z
CATEGORIES:Infantils
LOCATION:Biblioteca l'Escorxador - Pg. de la Rectoria Vella, 10
DESCRIPTION:Contes per a menuts
URL:https://www.santceloni.cat/document.php?id=14361
END:VEVENT
END:VCALENDAR