BEGIN:VCALENDAR
VERSION:2.0
PRODID:-//Plone.org//NONSGML plone.app.event//EN
X-WR-TIMEZONE:Europe/Madrid
BEGIN:VEVENT
SUMMARY:Concert: Raska
DTSTART;TZID=Europe/Madrid;VALUE=DATE-TIME:20150605T200000
DTEND;TZID=Europe/Madrid;VALUE=DATE-TIME:20150605T210000
DTSTAMP;VALUE=DATE-TIME:20260423T060711Z
UID:919139977d4c8cdc6824787690e011b8
CREATED;VALUE=DATE-TIME:20150605T000000Z
CATEGORIES:Música
LOCATION:La Clau - c. Alguersuari, 16
ORGANIZER:La Clau
DESCRIPTION:A cop de sandàlia. Cicle de música a la fresca a La Clau
URL:https://www.santceloni.cat/document.php?id=14377
END:VEVENT
END:VCALENDAR