BEGIN:VCALENDAR
VERSION:2.0
PRODID:-//Plone.org//NONSGML plone.app.event//EN
X-WR-TIMEZONE:Europe/Madrid
BEGIN:VEVENT
SUMMARY:Inauguració de l'exposició L'Ovidi Popular, de Toni Miró
DTSTART;TZID=Europe/Madrid;VALUE=DATE-TIME:20150605T180000
DTEND;TZID=Europe/Madrid;VALUE=DATE-TIME:20150605T190000
DTSTAMP;VALUE=DATE-TIME:20260423T145651Z
UID:b710b3ffdb3be7a0c3964643312b00d9
CREATED;VALUE=DATE-TIME:20150605T000000Z
CATEGORIES:Exposició
LOCATION:La Clau - c. Alguersuari, 16
ORGANIZER:La Clau
COMMENT:Preu: gratuït
DESCRIPTION:Activitats de La Clau
URL:https://www.santceloni.cat/document.php?id=14379
END:VEVENT
END:VCALENDAR