BEGIN:VCALENDAR
VERSION:2.0
PRODID:-//Plone.org//NONSGML plone.app.event//EN
X-WR-TIMEZONE:Europe/Madrid
BEGIN:VEVENT
SUMMARY:Ball de l'Esplai a l'Ateneu, amb Aria
DTSTART;TZID=Europe/Madrid;VALUE=DATE-TIME:20150719T180000
DTEND;TZID=Europe/Madrid;VALUE=DATE-TIME:20150719T190000
DTSTAMP;VALUE=DATE-TIME:20260423T124827Z
UID:a2afe6748b5ec6b8079676d711caec49
CREATED;VALUE=DATE-TIME:20150719T000000Z
CATEGORIES:Dansa,Música
LOCATION:Teatre Municipal Ateneu, Sala Petita - Germà Emilià, 1
ORGANIZER:L'Esplai de la Gent Gran
COMMENT:Preu: 4 &euro; socis, 5 &euro; no socis
DESCRIPTION:Activitats de l'Esplai de Gent Gran
URL:https://www.santceloni.cat/document.php?id=14436
END:VEVENT
END:VCALENDAR