BEGIN:VCALENDAR
VERSION:2.0
PRODID:-//Plone.org//NONSGML plone.app.event//EN
X-WR-TIMEZONE:Europe/Madrid
BEGIN:VEVENT
SUMMARY:Ball a l'Esplai, amb Paco
DTSTART;TZID=Europe/Madrid;VALUE=DATE-TIME:20150802T173000
DTEND;TZID=Europe/Madrid;VALUE=DATE-TIME:20150802T183000
DTSTAMP;VALUE=DATE-TIME:20260422T165930Z
UID:8e87ca33916415e900b909db65988162
CREATED;VALUE=DATE-TIME:20150802T000000Z
CATEGORIES:Dansa,Música
LOCATION:Casal d'avis L'Esplai - Balmes, 36
ORGANIZER:L'Esplai de la Gent Gran
COMMENT:Preu: 4 &euro; socis, 5 &euro; no socis
DESCRIPTION:Activitats de l'Esplai de Gent Gran
URL:https://www.santceloni.cat/document.php?id=14438
END:VEVENT
END:VCALENDAR