BEGIN:VCALENDAR
VERSION:2.0
PRODID:-//Plone.org//NONSGML plone.app.event//EN
X-WR-TIMEZONE:Europe/Madrid
BEGIN:VEVENT
SUMMARY:Circ amb la Cia Capicua aquesta setmana al Dijous a la fresca a la plaça de la Biblioteca
DTSTART;TZID=Europe/Madrid;VALUE=DATE-TIME:20150716T220000
DTEND;TZID=Europe/Madrid;VALUE=DATE-TIME:20150716T230000
DTSTAMP;VALUE=DATE-TIME:20260423T025333Z
UID:5ede6ca66259da5c2d14e5064f9cb5cd
CREATED;VALUE=DATE-TIME:20150716T000000Z
LOCATION:Plaça de la Biblioteca - Plaça de la Biblioteca
COMMENT:Preu: Gratuït
Durada: 50 min.
DESCRIPTION:Dijous a la fresca
URL:https://www.santceloni.cat/document.php?id=14445
END:VEVENT
END:VCALENDAR