BEGIN:VCALENDAR
VERSION:2.0
PRODID:-//Plone.org//NONSGML plone.app.event//EN
X-WR-TIMEZONE:Europe/Madrid
BEGIN:VEVENT
SUMMARY:Contes que bateguen, amb Mireia Peña
DTSTART;TZID=Europe/Madrid;VALUE=DATE-TIME:20150925T180000
DTEND;TZID=Europe/Madrid;VALUE=DATE-TIME:20150925T190000
DTSTAMP;VALUE=DATE-TIME:20260423T055038Z
UID:2394f08953661b802d4e041b26b8439d
CREATED;VALUE=DATE-TIME:20150925T000000Z
CATEGORIES:Infantils
LOCATION:Biblioteca l'Escorxador - Pg. de la Rectoria Vella, 10
DESCRIPTION:Hora del Conte
URL:https://www.santceloni.cat/document.php?id=14770
END:VEVENT
END:VCALENDAR