BEGIN:VCALENDAR
VERSION:2.0
PRODID:-//Plone.org//NONSGML plone.app.event//EN
X-WR-TIMEZONE:Europe/Madrid
BEGIN:VEVENT
SUMMARY:Concierto
DTSTART;TZID=Europe/Madrid;VALUE=DATE-TIME:20150801T220000
DTEND;TZID=Europe/Madrid;VALUE=DATE-TIME:20150801T230000
DTSTAMP;VALUE=DATE-TIME:20260420T055914Z
UID:77690ae872bb58f4c469137b02510c1a
CREATED;VALUE=DATE-TIME:20150801T000000Z
CATEGORIES:Música
LOCATION:C/ Santiago Rusiñol,10 Sant Celoni
ORGANIZER:La Jaima Art
COMMENT:Preu: ENTRADAS CON TAQUILLA INVERSA El espectador es quien decide, una vez vista la obra, pagar lo que considere oportuno y justo.
DESCRIPTION:Afro Fusion
URL:https://www.santceloni.cat/document.php?id=14841
END:VEVENT
END:VCALENDAR