BEGIN:VCALENDAR
VERSION:2.0
PRODID:-//Plone.org//NONSGML plone.app.event//EN
X-WR-TIMEZONE:Europe/Madrid
BEGIN:VEVENT
SUMMARY:I Setmana Bosc i Societat
DTSTART;TZID=Europe/Madrid;VALUE=DATE-TIME:20150926T000000
DTEND;TZID=Europe/Madrid;VALUE=DATE-TIME:20150926T010000
DTSTAMP;VALUE=DATE-TIME:20260423T131447Z
UID:278efdf2bcad71d41b3d9ba373abc5f4
CREATED;VALUE=DATE-TIME:20150926T000000Z
CATEGORIES:Esports,Música,Conferència
DESCRIPTION:Concert d'obertura Sona a bosc i lliurament del premi Bosquerol de l'any
URL:https://www.santceloni.cat/document.php?id=14878
END:VEVENT
END:VCALENDAR