BEGIN:VCALENDAR
VERSION:2.0
PRODID:-//Plone.org//NONSGML plone.app.event//EN
X-WR-TIMEZONE:Europe/Madrid
BEGIN:VEVENT
SUMMARY:I Setmana Bosc i Societat
DTSTART;TZID=Europe/Madrid;VALUE=DATE-TIME:20151001T000000
DTEND;TZID=Europe/Madrid;VALUE=DATE-TIME:20151001T010000
DTSTAMP;VALUE=DATE-TIME:20260423T012538Z
UID:3d8ea1fb1e52981373e0e3913ab169f6
CREATED;VALUE=DATE-TIME:20151001T000000Z
CATEGORIES:Esports,Música,Conferència
DESCRIPTION:Jornada tècnica, taller de patchwork i Concert
URL:https://www.santceloni.cat/document.php?id=14885
END:VEVENT
END:VCALENDAR