BEGIN:VCALENDAR
VERSION:2.0
PRODID:-//Plone.org//NONSGML plone.app.event//EN
X-WR-TIMEZONE:Europe/Madrid
BEGIN:VEVENT
SUMMARY:Taller de Dansa Evolutiva
DTSTART;TZID=Europe/Madrid;VALUE=DATE-TIME:20150922T180000
DTEND;TZID=Europe/Madrid;VALUE=DATE-TIME:20150922T190000
DTSTAMP;VALUE=DATE-TIME:20260423T102529Z
UID:e60283e13b784cd446e3a3a855e4b8a1
CREATED;VALUE=DATE-TIME:20150922T000000Z
CATEGORIES:Dansa
LOCATION:Escola bressol municipal - Pere Ferrer, 15
ORGANIZER:Banc del Temps de Sant Celoni
COMMENT:Preu: 0&euro; i 15 minuts/hora
DESCRIPTION:a càrrec de Carlos Solrac Pussetto
URL:https://www.santceloni.cat/document.php?id=14932
END:VEVENT
END:VCALENDAR