BEGIN:VCALENDAR
VERSION:2.0
PRODID:-//Plone.org//NONSGML plone.app.event//EN
X-WR-TIMEZONE:Europe/Madrid
BEGIN:VEVENT
SUMMARY:Informació sobre el Banc del Temps de Sant Celoni
DTSTART;TZID=Europe/Madrid;VALUE=DATE-TIME:20151201T180000
DTEND;TZID=Europe/Madrid;VALUE=DATE-TIME:20151201T190000
DTSTAMP;VALUE=DATE-TIME:20260422T165832Z
UID:147ffa6874a230727a44de52b7b6b4ec
CREATED;VALUE=DATE-TIME:20151201T000000Z
LOCATION:La Clau - c. Alguersuari, 16
ORGANIZER:Banc del Temps de Sant Celoni
URL:https://www.santceloni.cat/document.php?id=14958
END:VEVENT
END:VCALENDAR