BEGIN:VCALENDAR
VERSION:2.0
PRODID:-//Plone.org//NONSGML plone.app.event//EN
X-WR-TIMEZONE:Europe/Madrid
BEGIN:VEVENT
SUMMARY:Jazz: Lina & Mathilde
DTSTART;TZID=Europe/Madrid;VALUE=DATE-TIME:20151017T220000
DTEND;TZID=Europe/Madrid;VALUE=DATE-TIME:20151017T230000
DTSTAMP;VALUE=DATE-TIME:20260422T105800Z
UID:e2f371e6d42b1db138936d1f50242783
CREATED;VALUE=DATE-TIME:20151017T000000Z
CATEGORIES:Música
LOCATION:La Jaima Art - c. Santiago Rusiñol, 10, 08470 Sant Celoni
ORGANIZER:La Jaima Art
COMMENT:Preu: Taquilla inversa
Durada: 23
DESCRIPTION:Activitats de La Jaima Art
URL:https://www.santceloni.cat/document.php?id=15007
END:VEVENT
END:VCALENDAR