BEGIN:VCALENDAR
VERSION:2.0
PRODID:-//Plone.org//NONSGML plone.app.event//EN
X-WR-TIMEZONE:Europe/Madrid
BEGIN:VEVENT
SUMMARY:Ball de l'Esplai a l'Ateneu, amb Aria
DTSTART;TZID=Europe/Madrid;VALUE=DATE-TIME:20151101T180000
DTEND;TZID=Europe/Madrid;VALUE=DATE-TIME:20151101T190000
DTSTAMP;VALUE=DATE-TIME:20260423T190705Z
UID:c9fe416c098ea6c58776c857c67aa97f
CREATED;VALUE=DATE-TIME:20151101T000000Z
CATEGORIES:Música
LOCATION:Teatre Municipal Ateneu, Sala Gran - Germà Emilià, 1
ORGANIZER:Esplai de la Gent Gran
COMMENT:Preu: 4 &euro; socis, 5 &euro; no socis
DESCRIPTION:Activitats de l'Esplai de Gent Gran
URL:https://www.santceloni.cat/document.php?id=15196
END:VEVENT
END:VCALENDAR