BEGIN:VCALENDAR
VERSION:2.0
PRODID:-//Plone.org//NONSGML plone.app.event//EN
X-WR-TIMEZONE:Europe/Madrid
BEGIN:VEVENT
SUMMARY:3r Aniversari de La Clau
DTSTART;TZID=Europe/Madrid;VALUE=DATE-TIME:20151114T120000
DTEND;TZID=Europe/Madrid;VALUE=DATE-TIME:20151114T130000
DTSTAMP;VALUE=DATE-TIME:20260422T202120Z
UID:fb456a9edcbb0934a44c90af3de0bf90
CREATED;VALUE=DATE-TIME:20151114T000000Z
CATEGORIES:Infantils,Música,Teatre
LOCATION:Sala Bernat Martorell de Can Ramis i Plaça de la Vila
ORGANIZER:La Clau
COMMENT:Preu: Dinar adults: 8 &euro; (socis), 10 &euro; (no socis). Menú infantil (fins a 14 abys): 5 &euro;
Durada: Fins al vespre
URL:https://www.santceloni.cat/document.php?id=15290
END:VEVENT
END:VCALENDAR