BEGIN:VCALENDAR
VERSION:2.0
PRODID:-//Plone.org//NONSGML plone.app.event//EN
X-WR-TIMEZONE:Europe/Madrid
BEGIN:VEVENT
SUMMARY:Fira de Nadal
DTSTART;TZID=Europe/Madrid;VALUE=DATE-TIME:20151205T000000
DTEND;TZID=Europe/Madrid;VALUE=DATE-TIME:20151205T010000
DTSTAMP;VALUE=DATE-TIME:20260422T140449Z
UID:304186d6aa45ef2b2e2ac4935398e5aa
CREATED;VALUE=DATE-TIME:20151205T000000Z
COMMENT:Durada: Tot el dia
URL:https://www.santceloni.cat/document.php?id=15351
END:VEVENT
END:VCALENDAR