BEGIN:VCALENDAR
VERSION:2.0
PRODID:-//Plone.org//NONSGML plone.app.event//EN
X-WR-TIMEZONE:Europe/Madrid
BEGIN:VEVENT
SUMMARY:Natura: Sot de l'Aram (Montnegre)
DTSTART;TZID=Europe/Madrid;VALUE=DATE-TIME:20160117T080000
DTEND;TZID=Europe/Madrid;VALUE=DATE-TIME:20160117T090000
DTSTAMP;VALUE=DATE-TIME:20260421T214529Z
UID:31aee26972782a1e0b81d04f95b1eaf2
CREATED;VALUE=DATE-TIME:20160117T000000Z
CATEGORIES:Esports
LOCATION:Plaça Comte del Montseny - Plaça Comte del Montseny
DESCRIPTION:Activitats del CESC
URL:https://www.santceloni.cat/document.php?id=15367
END:VEVENT
END:VCALENDAR