BEGIN:VCALENDAR
VERSION:2.0
PRODID:-//Plone.org//NONSGML plone.app.event//EN
X-WR-TIMEZONE:Europe/Madrid
BEGIN:VEVENT
SUMMARY:Festa Major La Batllòria
DTSTART;TZID=Europe/Madrid;VALUE=DATE-TIME:20151220T113000
DTEND;TZID=Europe/Madrid;VALUE=DATE-TIME:20151220T123000
DTSTAMP;VALUE=DATE-TIME:20260424T105204Z
UID:c33a46017e9dfeb8a58758280f714780
CREATED;VALUE=DATE-TIME:20151220T000000Z
CATEGORIES:Festa,Infantils,Música
COMMENT:Durada: Tot el dia
DESCRIPTION:Activitats de diumenge dia 20
URL:https://www.santceloni.cat/document.php?id=15386
END:VEVENT
END:VCALENDAR