BEGIN:VCALENDAR
VERSION:2.0
PRODID:-//Plone.org//NONSGML plone.app.event//EN
X-WR-TIMEZONE:Europe/Madrid
BEGIN:VEVENT
SUMMARY:Presentació de les activitats per La Marató TV3
DTSTART;TZID=Europe/Madrid;VALUE=DATE-TIME:20151201T200000
DTEND;TZID=Europe/Madrid;VALUE=DATE-TIME:20151201T210000
DTSTAMP;VALUE=DATE-TIME:20260421T010644Z
UID:a4ed2cb7c4d819eecf297fb152cc331f
CREATED;VALUE=DATE-TIME:20151201T000000Z
CATEGORIES:Conferència
LOCATION:Sala Bernat Martorell de Can Ramis - Pl. de la Vila, 25
ORGANIZER:Els 08470
COMMENT:Preu: Gratuït
Durada: 90 minuts
DESCRIPTION:Conferència sobre Diabetis i Obesitat
URL:https://www.santceloni.cat/document.php?id=15395
END:VEVENT
END:VCALENDAR